BEGIN:VCALENDAR
VERSION:2.0
PRODID:-//The Happiness Tribe - ECPv6.15.14//NONSGML v1.0//EN
CALSCALE:GREGORIAN
METHOD:PUBLISH
X-WR-CALNAME:The Happiness Tribe
X-ORIGINAL-URL:https://thehappinesstribes.com
X-WR-CALDESC:Events for The Happiness Tribe
REFRESH-INTERVAL;VALUE=DURATION:PT1H
X-Robots-Tag:noindex
X-PUBLISHED-TTL:PT1H
BEGIN:VTIMEZONE
TZID:Africa/Accra
BEGIN:STANDARD
TZOFFSETFROM:+0000
TZOFFSETTO:+0000
TZNAME:GMT
DTSTART:20240101T000000
END:STANDARD
END:VTIMEZONE
BEGIN:VEVENT
DTSTART;TZID=Africa/Accra:20250504T080000
DTEND;TZID=Africa/Accra:20250504T170000
DTSTAMP:20260423T085843
CREATED:20250504T115204Z
LAST-MODIFIED:20250504T115204Z
UID:18553-1746345600-1746378000@thehappinesstribes.com
SUMMARY:Happy People Events at Wave Sunset Beach Bar
DESCRIPTION:Daytime events with local DJs and community gatherings in Haad Yao.
URL:https://thehappinesstribes.com/event/happy-people-events-at-wave-sunset-beach-bar/
ATTACH;FMTTYPE=image/jpeg:https://thehappinesstribes.com/wp-content/uploads/2025/05/Privet-Trips-scaled.jpg
END:VEVENT
BEGIN:VEVENT
DTSTART;TZID=Africa/Accra:20250504T080000
DTEND;TZID=Africa/Accra:20250504T170000
DTSTAMP:20260423T085843
CREATED:20250504T115113Z
LAST-MODIFIED:20250504T115113Z
UID:18551-1746345600-1746378000@thehappinesstribes.com
SUMMARY:The Happiness Hunt
DESCRIPTION:An evening featuring wisdom for inner transformation\, music meditation\, and a vegan feast.
URL:https://thehappinesstribes.com/event/the-happiness-hunt/
ATTACH;FMTTYPE=image/jpeg:https://thehappinesstribes.com/wp-content/uploads/2025/05/Asia-scaled.jpg
END:VEVENT
BEGIN:VEVENT
DTSTART;TZID=Africa/Accra:20250504T080000
DTEND;TZID=Africa/Accra:20250504T170000
DTSTAMP:20260423T085843
CREATED:20250504T114839Z
LAST-MODIFIED:20250504T114839Z
UID:18549-1746345600-1746378000@thehappinesstribes.com
SUMMARY:World Happiness Summit 2025
DESCRIPTION:An immersive event uniting global experts in happiness and well-being\, scheduled for March 15-16\, 2025\, in Miami.
URL:https://thehappinesstribes.com/event/world-happiness-summit-2025/
ATTACH;FMTTYPE=image/jpeg:https://thehappinesstribes.com/wp-content/uploads/2025/05/Europe.jpg
END:VEVENT
END:VCALENDAR